
BEGIN:VCALENDAR
VERSION:2.0
CALSCALE:GREGORIAN
BEGIN:VEVENT
URL;VALUE=URI:https://www.boardoftrade.com/events/8100
DTSTART:20260608T233000Z
DTEND:20260609T013000Z
UID:8100eventcalendar.boardoftrade.com
DTSTAMP:20260423T053853Z
LOCATION:MNP LLP 21st Floor - MNP Learning Centre at the MNP Tower  609 Granville St Vancouver
DESCRIPTION:Schedule: \nRegistration and Reception: 4:30 – 5:00 p.m. <br> Program: 5:00 – 6:00 p.m.<br> Open Networking: 6:00 – 6:30 p.m.<br>\n \nEvent Detail Page: https://www.boardoftrade.com/events/8100
X-ALT-DESC;FMTTYPE=text/html:<!doctype html><html><body><div>Schedule: <p>Registration and Reception: 4:30 – 5:00 p.m. <br> Program: 5:00 – 6:00 p.m.<br> Open Networking: 6:00 – 6:30 p.m.<br></p></div>&nbsp\;<div>Event Detail Page: https://www.boardoftrade.com/events/8100</div></body></html>

SUMMARY:The Human Advantage: Critical Thinking in the Age of AI
END:VEVENT
END:VCALENDAR