
BEGIN:VCALENDAR
VERSION:2.0
CALSCALE:GREGORIAN
BEGIN:VEVENT
URL;VALUE=URI:https://www.boardoftrade.com/events/7986
DTSTART:20250910T183000Z
DTEND:20250910T193000Z
UID:7986eventcalendar.boardoftrade.com
DTSTAMP:20260420T053329Z
LOCATION:Virtual Training Workshop
DESCRIPTION:Schedule: \n11:30 a.m. - 12:30 p.m. \n\n \nEvent Detail Page: https://www.boardoftrade.com/events/7986
X-ALT-DESC;FMTTYPE=text/html:<!doctype html><html><body><div>Schedule: <p>11:30 a.m. - 12:30 p.m. <BR></p></div>&nbsp\;<div>Event Detail Page: https://www.boardoftrade.com/events/7986</div></body></html>

SUMMARY:Bridging the Divide: Finding Common Ground in a Divisive World
END:VEVENT
END:VCALENDAR