
BEGIN:VCALENDAR
VERSION:2.0
CALSCALE:GREGORIAN
BEGIN:VEVENT
URL;VALUE=URI:https://www.boardoftrade.com/events/7938
DTSTART:20250227T190000Z
DTEND:20250227T203000Z
UID:7938eventcalendar.boardoftrade.com
DTSTAMP:20260419T224959Z
LOCATION:
DESCRIPTION:Schedule: \nOnline Program: 11:00 a.m.- 12:30 p.m. PT\n\n\n \nEvent Detail Page: https://www.boardoftrade.com/events/7938
X-ALT-DESC;FMTTYPE=text/html:<!doctype html><html><body><div>Schedule: <p>Online Program: 11:00 a.m.- 12:30 p.m. PT<BR><BR></p></div>&nbsp\;<div>Event Detail Page: https://www.boardoftrade.com/events/7938</div></body></html>

SUMMARY:Navigating US Tariffs & Compliance Measures
END:VEVENT
END:VCALENDAR