
BEGIN:VCALENDAR
VERSION:2.0
CALSCALE:GREGORIAN
BEGIN:VEVENT
URL;VALUE=URI:https://www.boardoftrade.com/events/7934
DTSTART:20250522T003000Z
DTEND:20250522T023000Z
UID:7934eventcalendar.boardoftrade.com
DTSTAMP:20260420T053231Z
LOCATION:Fairleigh Dickinson University 89 West Georgia Street\, 11th floor Vancouver
DESCRIPTION:Schedule: \nRegistration & Reception: 5:30  – 6:00 p.m. PT \n Program: 6:00  - 7:00 p.m. PT\n Networking: 7:00 - 7:30 p.m. PT\n \nEvent Detail Page: https://www.boardoftrade.com/events/7934
X-ALT-DESC;FMTTYPE=text/html:<!doctype html><html><body><div>Schedule: <p>Registration & Reception: 5:30  – 6:00 p.m. PT <BR> Program: 6:00  - 7:00 p.m. PT<BR> Networking: 7:00 - 7:30 p.m. PT</p></div>&nbsp\;<div>Event Detail Page: https://www.boardoftrade.com/events/7934</div></body></html>

SUMMARY:Beyond the Expected: Charting an Unconventional Path to Success
END:VEVENT
END:VCALENDAR