
BEGIN:VCALENDAR
VERSION:2.0
CALSCALE:GREGORIAN
BEGIN:VEVENT
URL;VALUE=URI:https://www.boardoftrade.com/events/7931
DTSTART:20250226T153000Z
DTEND:20250226T170000Z
UID:7931eventcalendar.boardoftrade.com
DTSTAMP:20260419T225114Z
LOCATION:UBC Robson Square Theatre (C300) - Classroom Level 800 Robson Street
DESCRIPTION:Schedule: \nRegistration & Breakfast: 7:30 – 8:00 a.m. \n Program: 8:00 – 9:00 a.m.\n \nEvent Detail Page: https://www.boardoftrade.com/events/7931
X-ALT-DESC;FMTTYPE=text/html:<!doctype html><html><body><div>Schedule: <p>Registration & Breakfast: 7:30 – 8:00 a.m. <BR> Program: 8:00 – 9:00 a.m.</p></div>&nbsp\;<div>Event Detail Page: https://www.boardoftrade.com/events/7931</div></body></html>

SUMMARY:Giving Flight to B.C.’s Economy – Is Low Carbon Aviation Fuel B.C.’s Next Big Opportunity?
END:VEVENT
END:VCALENDAR