
BEGIN:VCALENDAR
VERSION:2.0
CALSCALE:GREGORIAN
BEGIN:VEVENT
URL;VALUE=URI:https://www.boardoftrade.com/events/7917
DTSTART:20250219T003000Z
DTEND:20250219T023000Z
UID:7917eventcalendar.boardoftrade.com
DTSTAMP:20260419T225036Z
LOCATION:KPMG - Level 11 (Sea to Sky Room)  777 Dunsmuir Street  Vancouver
DESCRIPTION:Schedule: \nRegistration & Reception: 4:30  – 5:00 p.m. \n Program: 5:00  – 6:00 p.m.\n Networking: 6:00  – 6:30 p.m.  \n\n \nEvent Detail Page: https://www.boardoftrade.com/events/7917
X-ALT-DESC;FMTTYPE=text/html:<!doctype html><html><body><div>Schedule: <p>Registration & Reception: 4:30  – 5:00 p.m. <BR> Program: 5:00  – 6:00 p.m.<BR> Networking: 6:00  – 6:30 p.m.  <BR></p></div>&nbsp\;<div>Event Detail Page: https://www.boardoftrade.com/events/7917</div></body></html>

SUMMARY:Navigating Government & Business in Uncertain Times: Insights from a Former Clerk of the Privy Council
END:VEVENT
END:VCALENDAR