
BEGIN:VCALENDAR
VERSION:2.0
CALSCALE:GREGORIAN
BEGIN:VEVENT
URL;VALUE=URI:https://www.boardoftrade.com/events/7911
DTSTART:20250131T010000Z
DTEND:20250131T030000Z
UID:7911eventcalendar.boardoftrade.com
DTSTAMP:20260419T225154Z
LOCATION:Pinnacle Hotel Harbourfront  360 Vistas Room\, 19th floor  1133 West Hastings Street  Vancouver
DESCRIPTION:Schedule: \nRegistration & Reception: 5:00 - 5:30 p.m.<br> Speed Networking: 5:30 - 6:30 p.m.<br> Open Networking: 6:30 - 7:00 p.m.<br>\n \nEvent Detail Page: https://www.boardoftrade.com/events/7911
X-ALT-DESC;FMTTYPE=text/html:<!doctype html><html><body><div>Schedule: <p>Registration & Reception: 5:00 - 5:30 p.m.<br> Speed Networking: 5:30 - 6:30 p.m.<br> Open Networking: 6:30 - 7:00 p.m.<br></p></div>&nbsp\;<div>Event Detail Page: https://www.boardoftrade.com/events/7911</div></body></html>

SUMMARY:19th Annual Speed Networking Night
END:VEVENT
END:VCALENDAR