
BEGIN:VCALENDAR
VERSION:2.0
CALSCALE:GREGORIAN
BEGIN:VEVENT
URL;VALUE=URI:https://www.boardoftrade.com/events/7903
DTSTART:20250219T193000Z
DTEND:20250219T220000Z
UID:7903eventcalendar.boardoftrade.com
DTSTAMP:20260419T224856Z
LOCATION:Vancouver Convention Centre - East Ballrooms A-C999 Canada PlaceVancouver
DESCRIPTION:Schedule: \nRegistration & Lunch: 11:30 a.m. - 12:30 p.m.\n Program: 12:30 – 2:00 p.m.\n \nEvent Detail Page: https://www.boardoftrade.com/events/7903
X-ALT-DESC;FMTTYPE=text/html:<!doctype html><html><body><div>Schedule: <p>Registration & Lunch: 11:30 a.m. - 12:30 p.m.<BR> Program: 12:30 – 2:00 p.m.</p></div>&nbsp\;<div>Event Detail Page: https://www.boardoftrade.com/events/7903</div></body></html>

SUMMARY:2025 State of the City Address with Mayor Ken Sim
END:VEVENT
END:VCALENDAR