
BEGIN:VCALENDAR
VERSION:2.0
CALSCALE:GREGORIAN
BEGIN:VEVENT
URL;VALUE=URI:https://www.boardoftrade.com/events/7902
DTSTART:20250114T163000Z
DTEND:20250114T180000Z
UID:7902eventcalendar.boardoftrade.com
DTSTAMP:20260419T224836Z
LOCATION:Northeastern University  Suite 1400  410 West Georgia St Vancouver
DESCRIPTION:Schedule: \nRegistration & Breakfast: 8:30 - 9:00 a.m. \n Program: 9:00 - 10:00 a.m.\n \nEvent Detail Page: https://www.boardoftrade.com/events/7902
X-ALT-DESC;FMTTYPE=text/html:<!doctype html><html><body><div>Schedule: <p>Registration & Breakfast: 8:30 - 9:00 a.m. <BR> Program: 9:00 - 10:00 a.m.</p></div>&nbsp\;<div>Event Detail Page: https://www.boardoftrade.com/events/7902</div></body></html>

SUMMARY:Unlocking the Potential of Newcomer Talent
END:VEVENT
END:VCALENDAR