
BEGIN:VCALENDAR
VERSION:2.0
CALSCALE:GREGORIAN
BEGIN:VEVENT
URL;VALUE=URI:https://www.boardoftrade.com/events/7899
DTSTART:20250130T153000Z
DTEND:20250130T200000Z
UID:7899eventcalendar.boardoftrade.com
DTSTAMP:20260419T224940Z
LOCATION:Fairmont Waterfront  Waterfront Ballroom  900 Canada Place\, Vancouver
DESCRIPTION:Schedule: \nRegistration & Breakfast:  7:30  - 8:00 a.m. \n Program:  8:00 a.m. - 12:00 p.m. \n <a href="https://www.boardoftrade.com/files/events/digital-agenda.pdf" target="_blank">Full Agenda(PDF)</a>\n \nEvent Detail Page: https://www.boardoftrade.com/events/7899
X-ALT-DESC;FMTTYPE=text/html:<!doctype html><html><body><div>Schedule: <p>Registration & Breakfast:  7:30  - 8:00 a.m. <BR> Program:  8:00 a.m. - 12:00 p.m. <BR> <a href="https://www.boardoftrade.com/files/events/digital-agenda.pdf" target="_blank">Full Agenda(PDF)</a></p></div>&nbsp\;<div>Event Detail Page: https://www.boardoftrade.com/events/7899</div></body></html>

SUMMARY:Economic Outlook Forum 2025 Presented by Scotiabank
END:VEVENT
END:VCALENDAR