
BEGIN:VCALENDAR
VERSION:2.0
CALSCALE:GREGORIAN
BEGIN:VEVENT
URL;VALUE=URI:https://www.boardoftrade.com/events/7896
DTSTART:20241203T163000Z
DTEND:20241203T180000Z
UID:7896eventcalendar.boardoftrade.com
DTSTAMP:20260419T225153Z
LOCATION:Northeastern University  Suite 1400  410 West Georgia St Vancouver
DESCRIPTION:Schedule: \nRegistration & Breakfast: 8:30 - 9:00 a.m. \n Program: 9:00 - 10:00 a.m.\n \nEvent Detail Page: https://www.boardoftrade.com/events/7896
X-ALT-DESC;FMTTYPE=text/html:<!doctype html><html><body><div>Schedule: <p>Registration & Breakfast: 8:30 - 9:00 a.m. <BR> Program: 9:00 - 10:00 a.m.</p></div>&nbsp\;<div>Event Detail Page: https://www.boardoftrade.com/events/7896</div></body></html>

SUMMARY:Pay Transparency in B.C.: What Employers and Employees Need to Know
END:VEVENT
END:VCALENDAR