
BEGIN:VCALENDAR
VERSION:2.0
CALSCALE:GREGORIAN
BEGIN:VEVENT
URL;VALUE=URI:https://www.boardoftrade.com/events/7895
DTSTART:20250117T010000Z
DTEND:20250117T033000Z
UID:7895eventcalendar.boardoftrade.com
DTSTAMP:20260419T225036Z
LOCATION:Stock and Supply  550 West Hastings St Vancouver
DESCRIPTION:Schedule: \nCheck-in Time: 4:30 p.m. Murder Mystery Game: 5:00 (sharp!) - 6:30 p.m.<br>  Reception: 6:30 - 7:30 p.m.\n \nEvent Detail Page: https://www.boardoftrade.com/events/7895
X-ALT-DESC;FMTTYPE=text/html:<!doctype html><html><body><div>Schedule: <p>Check-in Time: 4:30 p.m. Murder Mystery Game: 5:00 (sharp!) - 6:30 p.m.<br>  Reception: 6:30 - 7:30 p.m.</p></div>&nbsp\;<div>Event Detail Page: https://www.boardoftrade.com/events/7895</div></body></html>

SUMMARY:Members' Experience with Vancouver Mysteries - The Case of the Hotel Detective
END:VEVENT
END:VCALENDAR