
BEGIN:VCALENDAR
VERSION:2.0
CALSCALE:GREGORIAN
BEGIN:VEVENT
URL;VALUE=URI:https://www.boardoftrade.com/events/7890
DTSTART:20241126T153000Z
DTEND:20241126T200000Z
UID:7890eventcalendar.boardoftrade.com
DTSTAMP:20260419T205604Z
LOCATION:Fairmont Hotel Vancouver BC Ballroom  900 West Georgia St\, Vancouver
DESCRIPTION:Schedule: \nRegistration and Breakfast:  7:30  - 8:00 a.m. PT\n Program:  8:00 - 12:00 p.m. PT\n <a href="https://www.boardoftrade.com/files/events/digital-agenda.pdf" target="_blank">Full Agenda(PDF)<a/>\n \nEvent Detail Page: https://www.boardoftrade.com/events/7890
X-ALT-DESC;FMTTYPE=text/html:<!doctype html><html><body><div>Schedule: <p>Registration and Breakfast:  7:30  - 8:00 a.m. PT<BR> Program:  8:00 - 12:00 p.m. PT<BR> <a href="https://www.boardoftrade.com/files/events/digital-agenda.pdf" target="_blank">Full Agenda(PDF)<a/></p></div>&nbsp\;<div>Event Detail Page: https://www.boardoftrade.com/events/7890</div></body></html>

SUMMARY:Energy and Natural Resources Forum 2024 Presented by Bennett Jones
END:VEVENT
END:VCALENDAR