
BEGIN:VCALENDAR
VERSION:2.0
CALSCALE:GREGORIAN
BEGIN:VEVENT
URL;VALUE=URI:https://www.boardoftrade.com/events/7886
DTSTART:20241113T010000Z
DTEND:20241113T030000Z
UID:7886eventcalendar.boardoftrade.com
DTSTAMP:20260419T205755Z
LOCATION:Deloitte Summit (23rd Floor) 410 W. Georgia Street Vancouver
DESCRIPTION:Schedule: \nRegistration & Reception: 5:00  – 5:30 p.m. \n Program: 5:30  - 7:00 p.m.\n\n \nEvent Detail Page: https://www.boardoftrade.com/events/7886
X-ALT-DESC;FMTTYPE=text/html:<!doctype html><html><body><div>Schedule: <p>Registration & Reception: 5:00  – 5:30 p.m. <BR> Program: 5:30  - 7:00 p.m.<BR></p></div>&nbsp\;<div>Event Detail Page: https://www.boardoftrade.com/events/7886</div></body></html>

SUMMARY:Unlocking Leadership: Mastering the Art of Networking
END:VEVENT
END:VCALENDAR