
BEGIN:VCALENDAR
VERSION:2.0
CALSCALE:GREGORIAN
BEGIN:VEVENT
URL;VALUE=URI:https://www.boardoftrade.com/events/7885
DTSTART:20241120T153000Z
DTEND:20241120T170000Z
UID:7885eventcalendar.boardoftrade.com
DTSTAMP:20260419T210703Z
LOCATION:Fairmont Hotel Vancouver - BC Ballroom  900 W Georgia St\,  Vancouver\, BC
DESCRIPTION:Schedule: \nRegistration and Breakfast:  7:30 - 8:00 a.m. \nProgram: 8:00 - 9:00 a.m. \n \nEvent Detail Page: https://www.boardoftrade.com/events/7885
X-ALT-DESC;FMTTYPE=text/html:<!doctype html><html><body><div>Schedule: <p>Registration and Breakfast:  7:30 - 8:00 a.m. <BR>Program: 8:00 - 9:00 a.m. </p></div>&nbsp\;<div>Event Detail Page: https://www.boardoftrade.com/events/7885</div></body></html>

SUMMARY:U.S. Election 2024: What the Next Administration means for Canada
END:VEVENT
END:VCALENDAR