
BEGIN:VCALENDAR
VERSION:2.0
CALSCALE:GREGORIAN
BEGIN:VEVENT
URL;VALUE=URI:https://www.boardoftrade.com/events/7884
DTSTART:20241113T153000Z
DTEND:20241113T170000Z
UID:7884eventcalendar.boardoftrade.com
DTSTAMP:20260419T205642Z
LOCATION:Pan Pacific Vancouver Hotel Oceanview Suites 5-8 999 Canada Place\, Vancouver
DESCRIPTION:Schedule: \nRegistration and Breakfast:  7:30 - 8:00 a.m. \nProgram: 8:00 - 9:00 a.m. \n \nEvent Detail Page: https://www.boardoftrade.com/events/7884
X-ALT-DESC;FMTTYPE=text/html:<!doctype html><html><body><div>Schedule: <p>Registration and Breakfast:  7:30 - 8:00 a.m. <BR>Program: 8:00 - 9:00 a.m. </p></div>&nbsp\;<div>Event Detail Page: https://www.boardoftrade.com/events/7884</div></body></html>

SUMMARY:A Conversation with The Honourable Marc Miller
END:VEVENT
END:VCALENDAR