
BEGIN:VCALENDAR
VERSION:2.0
CALSCALE:GREGORIAN
BEGIN:VEVENT
URL;VALUE=URI:https://www.boardoftrade.com/events/7883
DTSTART:20241114T010000Z
DTEND:20241114T030000Z
UID:7883eventcalendar.boardoftrade.com
DTSTAMP:20260419T205132Z
LOCATION:Frankie's Italian l Frankie's Jazz Club  773 Beatty Street Vancouver
DESCRIPTION:Schedule: \nReception: 5:00 - 7:00 p.m.<br>\n \nEvent Detail Page: https://www.boardoftrade.com/events/7883
X-ALT-DESC;FMTTYPE=text/html:<!doctype html><html><body><div>Schedule: <p>Reception: 5:00 - 7:00 p.m.<br></p></div>&nbsp\;<div>Event Detail Page: https://www.boardoftrade.com/events/7883</div></body></html>

SUMMARY:Members' Exclusive Social at Frankie's Jazz Club
END:VEVENT
END:VCALENDAR