
BEGIN:VCALENDAR
VERSION:2.0
CALSCALE:GREGORIAN
BEGIN:VEVENT
URL;VALUE=URI:https://www.boardoftrade.com/events/7881
DTSTART:20241022T153000Z
DTEND:20241022T170000Z
UID:7881eventcalendar.boardoftrade.com
DTSTAMP:20260419T211919Z
LOCATION:Northeastern University  Suite 1400  410 West Georgia St Vancouver
DESCRIPTION:Schedule: \nRegistration & Breakfast: 8:30 a.m. - 9:00 a.m. \n Program: 9:00 a.m. - 10:00 a.m.\n \nEvent Detail Page: https://www.boardoftrade.com/events/7881
X-ALT-DESC;FMTTYPE=text/html:<!doctype html><html><body><div>Schedule: <p>Registration & Breakfast: 8:30 a.m. - 9:00 a.m. <BR> Program: 9:00 a.m. - 10:00 a.m.</p></div>&nbsp\;<div>Event Detail Page: https://www.boardoftrade.com/events/7881</div></body></html>

SUMMARY:Inspire and Achieve: The Journey to Small Business Success
END:VEVENT
END:VCALENDAR