
BEGIN:VCALENDAR
VERSION:2.0
CALSCALE:GREGORIAN
BEGIN:VEVENT
URL;VALUE=URI:https://www.boardoftrade.com/events/7880
DTSTART:20250123T010000Z
DTEND:20250123T030000Z
UID:7880eventcalendar.boardoftrade.com
DTSTAMP:20260419T225057Z
LOCATION:Par-Tee Putt Vancouver 670 Smithe St. Vancouver
DESCRIPTION:Schedule: \nRegistration: 5:00 - 5:15 p.m. \n Networking: 5:15 - 7:00 p.m.\n \nEvent Detail Page: https://www.boardoftrade.com/events/7880
X-ALT-DESC;FMTTYPE=text/html:<!doctype html><html><body><div>Schedule: <p>Registration: 5:00 - 5:15 p.m. <BR> Networking: 5:15 - 7:00 p.m.</p></div>&nbsp\;<div>Event Detail Page: https://www.boardoftrade.com/events/7880</div></body></html>

SUMMARY:Members' Experience at Par-Tee Putt
END:VEVENT
END:VCALENDAR