
BEGIN:VCALENDAR
VERSION:2.0
CALSCALE:GREGORIAN
BEGIN:VEVENT
URL;VALUE=URI:https://www.boardoftrade.com/events/7864
DTSTART:20241008T000000Z
DTEND:20241008T020000Z
UID:7864eventcalendar.boardoftrade.com
DTSTAMP:20260419T205518Z
LOCATION:Virtual Event
DESCRIPTION:Schedule: \nOnline Program: 5:00 – 7:00 p.m.\n \n  <em>A Zoom link to participate in the event will be sent by 2:00 p.m.\, Monday\, October 07.</em> \n\n \nEvent Detail Page: https://www.boardoftrade.com/events/7864
X-ALT-DESC;FMTTYPE=text/html:<!doctype html><html><body><div>Schedule: <p>Online Program: 5:00 – 7:00 p.m.<BR> <BR>  <em>A Zoom link to participate in the event will be sent by 2:00 p.m.\, Monday\, October 07.</em> <BR></p></div>&nbsp\;<div>Event Detail Page: https://www.boardoftrade.com/events/7864</div></body></html>

SUMMARY:Bringing Your A-Game to Your Team
END:VEVENT
END:VCALENDAR