
BEGIN:VCALENDAR
VERSION:2.0
CALSCALE:GREGORIAN
BEGIN:VEVENT
URL;VALUE=URI:https://www.boardoftrade.com/events/7860
DTSTART:20241008T183000Z
DTEND:20241008T193000Z
UID:7860eventcalendar.boardoftrade.com
DTSTAMP:20260419T205615Z
LOCATION:Virtual Training Workshop
DESCRIPTION:Schedule: \n11:30 a.m. - 12:30 p.m. \n\n \nEvent Detail Page: https://www.boardoftrade.com/events/7860
X-ALT-DESC;FMTTYPE=text/html:<!doctype html><html><body><div>Schedule: <p>11:30 a.m. - 12:30 p.m. <BR></p></div>&nbsp\;<div>Event Detail Page: https://www.boardoftrade.com/events/7860</div></body></html>

SUMMARY:A Leader’s Guide to Mental Health in the Workplace
END:VEVENT
END:VCALENDAR