
BEGIN:VCALENDAR
VERSION:2.0
CALSCALE:GREGORIAN
BEGIN:VEVENT
URL;VALUE=URI:https://www.boardoftrade.com/events/7855
DTSTART:20241115T170000Z
DTEND:20241213T190000Z
UID:7855eventcalendar.boardoftrade.com
DTSTAMP:20260419T205745Z
LOCATION:KPMG - Level 11 (Sea to Sky Room)  777 Dunsmuir Street  Vancouver
DESCRIPTION:Schedule: \n<p>Check-in and Refreshments: 8:30 - 9:00 a.m. <br> Program: 9:00 - 11:00 a.m.<br></p> <ol>   <li>Friday\, November 15 <strong> <br>101 of Generative AI and the Trusted AI Framework </strong></li><br>   <li>Friday\, November 22 <br><strong>Methodology on use case identification</strong></li><br>   <li>Friday\, November 29 <br><strong>Use case workshop</strong></li><br>   <li>Friday\, December 6 <br><strong>Prioritization on use case</strong></li><br>   <li>Friday\, December 13 <br><strong>Your AI roadmap</strong><br><br>  Registration deadline: Wednesday\, November 13\, 2024\n  If you have any questions\, please contact <A href="mailto:training@boardoftrade.com">training@boardoftrade.com</A>.\n \nEvent Detail Page: https://www.boardoftrade.com/events/7855
X-ALT-DESC;FMTTYPE=text/html:<!doctype html><html><body><div>Schedule: <p><p>Check-in and Refreshments: 8:30 - 9:00 a.m. <br> Program: 9:00 - 11:00 a.m.<br></p> <ol>   <li>Friday\, November 15 <strong> <br>101 of Generative AI and the Trusted AI Framework </strong></li><br>   <li>Friday\, November 22 <br><strong>Methodology on use case identification</strong></li><br>   <li>Friday\, November 29 <br><strong>Use case workshop</strong></li><br>   <li>Friday\, December 6 <br><strong>Prioritization on use case</strong></li><br>   <li>Friday\, December 13 <br><strong>Your AI roadmap</strong><br><br>  <P>Registration deadline: Wednesday\, November 13\, 2024</P>  If you have any questions\, please contact <A href="mailto:training@boardoftrade.com">training@boardoftrade.com</A>.</p></div>&nbsp\;<div>Event Detail Page: https://www.boardoftrade.com/events/7855</div></body></html>

SUMMARY:AI Adoption Program: Developed and powered by KPMG
END:VEVENT
END:VCALENDAR