
BEGIN:VCALENDAR
VERSION:2.0
CALSCALE:GREGORIAN
BEGIN:VEVENT
URL;VALUE=URI:https://www.boardoftrade.com/events/7854
DTSTART:20241024T183000Z
DTEND:20241024T203000Z
UID:7854eventcalendar.boardoftrade.com
DTSTAMP:20260419T205755Z
LOCATION:Fairmont Waterfront Waterfront Ballroom  900 Canada Place  Vancouver
DESCRIPTION:Schedule: \nRegistration & Lunch: 11:30 a.m. - 12:30 p.m. \n Program: 12:30 – 1:30 p.m. \n \nEvent Detail Page: https://www.boardoftrade.com/events/7854
X-ALT-DESC;FMTTYPE=text/html:<!doctype html><html><body><div>Schedule: <p>Registration & Lunch: 11:30 a.m. - 12:30 p.m. <BR> Program: 12:30 – 1:30 p.m. </p></div>&nbsp\;<div>Event Detail Page: https://www.boardoftrade.com/events/7854</div></body></html>

SUMMARY:Building the Future: Elevating B.C. through University Partnerships
END:VEVENT
END:VCALENDAR