
BEGIN:VCALENDAR
VERSION:2.0
CALSCALE:GREGORIAN
BEGIN:VEVENT
URL;VALUE=URI:https://www.boardoftrade.com/events/7853
DTSTART:20241011T000000Z
DTEND:20241011T020000Z
UID:7853eventcalendar.boardoftrade.com
DTSTAMP:20260419T205810Z
LOCATION:H.R. MacMillan Space Centre 1100 Chestnut St. Vancouver
DESCRIPTION:Schedule: \nRegistration and Networking: 5:00 - 6:00 p.m. \n Tour Begins: 6:00 p.m.\n Planetarium Show: 6:15 - 6:45 p.m.\n Event Concludes: 7:00 p.m.\n \nEvent Detail Page: https://www.boardoftrade.com/events/7853
X-ALT-DESC;FMTTYPE=text/html:<!doctype html><html><body><div>Schedule: <p>Registration and Networking: 5:00 - 6:00 p.m. <BR> Tour Begins: 6:00 p.m.<BR> Planetarium Show: 6:15 - 6:45 p.m.<BR> Event Concludes: 7:00 p.m.</p></div>&nbsp\;<div>Event Detail Page: https://www.boardoftrade.com/events/7853</div></body></html>

SUMMARY:Networking at the H.R. MacMillan Space Centre
END:VEVENT
END:VCALENDAR