
BEGIN:VCALENDAR
VERSION:2.0
CALSCALE:GREGORIAN
BEGIN:VEVENT
URL;VALUE=URI:https://www.boardoftrade.com/events/7844
DTSTART:20240913T000000Z
DTEND:20240913T020000Z
UID:7844eventcalendar.boardoftrade.com
DTSTAMP:20260419T205245Z
LOCATION:Virtual Event
DESCRIPTION:Schedule: \nOnline Program: 5:00 – 7:00 p.m.\n \n  <em>A Zoom link will be sent to participate by 2:00 p.m. PT\, Thursday\, September 12.</em>  \n\n <strong>This event is exclusive and complimentary for 2024-25 Mentees of GVBOT's Leaders of Tomorrow mentorship program.</strong>\n \nEvent Detail Page: https://www.boardoftrade.com/events/7844
X-ALT-DESC;FMTTYPE=text/html:<!doctype html><html><body><div>Schedule: <p>Online Program: 5:00 – 7:00 p.m.<BR> <BR>  <em>A Zoom link will be sent to participate by 2:00 p.m. PT\, Thursday\, September 12.</em>  <BR><BR> <strong>This event is exclusive and complimentary for 2024-25 Mentees of GVBOT's Leaders of Tomorrow mentorship program.</strong></p></div>&nbsp\;<div>Event Detail Page: https://www.boardoftrade.com/events/7844</div></body></html>

SUMMARY:LOT Leadership Development Day 2024
END:VEVENT
END:VCALENDAR