
BEGIN:VCALENDAR
VERSION:2.0
CALSCALE:GREGORIAN
BEGIN:VEVENT
URL;VALUE=URI:https://www.boardoftrade.com/events/7843
DTSTART:20240919T000000Z
DTEND:20240919T020000Z
UID:7843eventcalendar.boardoftrade.com
DTSTAMP:20260419T205738Z
LOCATION:Fairmont Hotel Vancouver The Roof - Floor 15  900 W Georgia St.  Vancouver
DESCRIPTION:Schedule: \nRegistration & Reception: 5:00  – 5:30 p.m. \n Program: 5:30  - 6:30 p.m.\n Open Networking: 6:30 - 7:00 p.m. \n \nEvent Detail Page: https://www.boardoftrade.com/events/7843
X-ALT-DESC;FMTTYPE=text/html:<!doctype html><html><body><div>Schedule: <p>Registration & Reception: 5:00  – 5:30 p.m. <BR> Program: 5:30  - 6:30 p.m.<BR> Open Networking: 6:30 - 7:00 p.m. </p></div>&nbsp\;<div>Event Detail Page: https://www.boardoftrade.com/events/7843</div></body></html>

SUMMARY:2023-24 LOT Graduation and New Student Welcome
END:VEVENT
END:VCALENDAR