
BEGIN:VCALENDAR
VERSION:2.0
CALSCALE:GREGORIAN
BEGIN:VEVENT
URL;VALUE=URI:https://www.boardoftrade.com/events/7841
DTSTART:20240923T230000Z
DTEND:20240924T020000Z
UID:7841eventcalendar.boardoftrade.com
DTSTAMP:20260419T205245Z
LOCATION:National Soccer Development Centre 3065 Westbrook Mall - UBC Vancouver
DESCRIPTION:Schedule: \nRegistration: 4:00 - 4:45 p.m.\n Experience: 4:45 - 7:00 p.m.\n \nEvent Detail Page: https://www.boardoftrade.com/events/7841
X-ALT-DESC;FMTTYPE=text/html:<!doctype html><html><body><div>Schedule: <p>Registration: 4:00 - 4:45 p.m.<BR> Experience: 4:45 - 7:00 p.m.</p></div>&nbsp\;<div>Event Detail Page: https://www.boardoftrade.com/events/7841</div></body></html>

SUMMARY:Whitecaps FC - National Soccer Development Centre
END:VEVENT
END:VCALENDAR