
BEGIN:VCALENDAR
VERSION:2.0
CALSCALE:GREGORIAN
BEGIN:VEVENT
URL;VALUE=URI:https://www.boardoftrade.com/events/7840
DTSTART:20241030T183000Z
DTEND:20241030T210000Z
UID:7840eventcalendar.boardoftrade.com
DTSTAMP:20260419T205442Z
LOCATION:Vancouver Convention Centre - West Ballroom A Canada Place\, Vancouver
DESCRIPTION:Schedule: \nRegistration & Lunch: 11:30 a.m. - 12:30 p.m.\nProgram: 12:30 - 2:00 p.m.\n \nEvent Detail Page: https://www.boardoftrade.com/events/7840
X-ALT-DESC;FMTTYPE=text/html:<!doctype html><html><body><div>Schedule: <p>Registration & Lunch: 11:30 a.m. - 12:30 p.m.<BR>Program: 12:30 - 2:00 p.m.</p></div>&nbsp\;<div>Event Detail Page: https://www.boardoftrade.com/events/7840</div></body></html>

SUMMARY:Keynote Address: YVR 2024
END:VEVENT
END:VCALENDAR