
BEGIN:VCALENDAR
VERSION:2.0
CALSCALE:GREGORIAN
BEGIN:VEVENT
URL;VALUE=URI:https://www.boardoftrade.com/events/7838
DTSTART:20240925T143000Z
DTEND:20240925T160000Z
UID:7838eventcalendar.boardoftrade.com
DTSTAMP:20260419T205811Z
LOCATION:Vancouver Club - Grand Ballroom  915 W Hastings St\,  Vancouver\, BC
DESCRIPTION:Schedule: \nRegistration and Breakfast:  7:30 - 8:00 a.m. \nProgram: 8:00 - 9:00 a.m. \n \nEvent Detail Page: https://www.boardoftrade.com/events/7838
X-ALT-DESC;FMTTYPE=text/html:<!doctype html><html><body><div>Schedule: <p>Registration and Breakfast:  7:30 - 8:00 a.m. <BR>Program: 8:00 - 9:00 a.m. </p></div>&nbsp\;<div>Event Detail Page: https://www.boardoftrade.com/events/7838</div></body></html>

SUMMARY:At the Heart of Canada’s Passenger Journey: VIA Rail's 2030 Vision
END:VEVENT
END:VCALENDAR