
BEGIN:VCALENDAR
VERSION:2.0
CALSCALE:GREGORIAN
BEGIN:VEVENT
URL;VALUE=URI:https://www.boardoftrade.com/events/7837
DTSTART:20240919T230000Z
DTEND:20240920T013000Z
UID:7837eventcalendar.boardoftrade.com
DTSTAMP:20260419T205755Z
LOCATION:EA Vancouver 4330 Sanderson wayBurnaby
DESCRIPTION:Schedule: \nWelcome Remarks: 4:00 - 4:30 p.m.<br> Campus Tour: 4:30 - 5:30 p.m<br> Networking: 5:30 - 6:30 p.m.\n \nEvent Detail Page: https://www.boardoftrade.com/events/7837
X-ALT-DESC;FMTTYPE=text/html:<!doctype html><html><body><div>Schedule: <p>Welcome Remarks: 4:00 - 4:30 p.m.<br> Campus Tour: 4:30 - 5:30 p.m<br> Networking: 5:30 - 6:30 p.m.</p></div>&nbsp\;<div>Event Detail Page: https://www.boardoftrade.com/events/7837</div></body></html>

SUMMARY:Members' Experience with EA Vancouver
END:VEVENT
END:VCALENDAR