
BEGIN:VCALENDAR
VERSION:2.0
CALSCALE:GREGORIAN
BEGIN:VEVENT
URL;VALUE=URI:https://www.boardoftrade.com/events/7835
DTSTART:20240917T183000Z
DTEND:20240917T203000Z
UID:7835eventcalendar.boardoftrade.com
DTSTAMP:20260419T205302Z
LOCATION:Fairmont Pacific Rim Star Sapphire Ballroom  1038 Canada Pl  Vancouver
DESCRIPTION:Schedule: \nRegistration & Lunch: 11:30 a.m. - 12:30 p.m. \n Program: 12:30 – 1:30 p.m. \n \nEvent Detail Page: https://www.boardoftrade.com/events/7835
X-ALT-DESC;FMTTYPE=text/html:<!doctype html><html><body><div>Schedule: <p>Registration & Lunch: 11:30 a.m. - 12:30 p.m. <BR> Program: 12:30 – 1:30 p.m. </p></div>&nbsp\;<div>Event Detail Page: https://www.boardoftrade.com/events/7835</div></body></html>

SUMMARY:The Mining Association of Canada's Annual Address
END:VEVENT
END:VCALENDAR