
BEGIN:VCALENDAR
VERSION:2.0
CALSCALE:GREGORIAN
BEGIN:VEVENT
URL;VALUE=URI:https://www.boardoftrade.com/events/7831
DTSTART:20240926T150000Z
DTEND:20240926T190000Z
UID:7831eventcalendar.boardoftrade.com
DTSTAMP:20260419T205744Z
LOCATION:Fairmont Hotel Vancouver BC Ballroom  900 W Georgia St.  Vancouver\, BC
DESCRIPTION:Schedule: \nRegistration and Breakfast:  8:00 - 8:30 a.m. \n Program:  8:30 a.m. - 12:00 p.m.\n \nEvent Detail Page: https://www.boardoftrade.com/events/7831
X-ALT-DESC;FMTTYPE=text/html:<!doctype html><html><body><div>Schedule: <p>Registration and Breakfast:  8:00 - 8:30 a.m. <BR> Program:  8:30 a.m. - 12:00 p.m.</p></div>&nbsp\;<div>Event Detail Page: https://www.boardoftrade.com/events/7831</div></body></html>

SUMMARY:Indigenous Opportunities Forum 2024 Presented by CN: Advancing Indigenous-Led Prosperity
END:VEVENT
END:VCALENDAR