
BEGIN:VCALENDAR
VERSION:2.0
CALSCALE:GREGORIAN
BEGIN:VEVENT
URL;VALUE=URI:https://www.boardoftrade.com/events/7829
DTSTART:20240815T000000Z
DTEND:20240815T020000Z
UID:7829eventcalendar.boardoftrade.com
DTSTAMP:20260419T205435Z
LOCATION:Govan Brown 200-900 West Hastings St Vancouver
DESCRIPTION:Schedule: \nSocial: 5:00 - 7:00 p.m. \n \nEvent Detail Page: https://www.boardoftrade.com/events/7829
X-ALT-DESC;FMTTYPE=text/html:<!doctype html><html><body><div>Schedule: <p>Social: 5:00 - 7:00 p.m. </p></div>&nbsp\;<div>Event Detail Page: https://www.boardoftrade.com/events/7829</div></body></html>

SUMMARY:Members' Social at Govan Brown
END:VEVENT
END:VCALENDAR