
BEGIN:VCALENDAR
VERSION:2.0
CALSCALE:GREGORIAN
BEGIN:VEVENT
URL;VALUE=URI:https://www.boardoftrade.com/events/7828
DTSTART:20240620T220000Z
DTEND:20240621T000000Z
UID:7828eventcalendar.boardoftrade.com
DTSTAMP:20260419T204929Z
LOCATION:Fairmont Waterfront Mackenzie Ballroom  900 Canada Place 
DESCRIPTION:Schedule: \nRegistration & Reception: 3:00  - 4:00 p.m. \n Program: 4:00 – 5:00 p.m.\n \nEvent Detail Page: https://www.boardoftrade.com/events/7828
X-ALT-DESC;FMTTYPE=text/html:<!doctype html><html><body><div>Schedule: <p>Registration & Reception: 3:00  - 4:00 p.m. <BR> Program: 4:00 – 5:00 p.m.</p></div>&nbsp\;<div>Event Detail Page: https://www.boardoftrade.com/events/7828</div></body></html>

SUMMARY:A Conversation with John Rustad\, Leader of the Conservative Party of BC
END:VEVENT
END:VCALENDAR