
BEGIN:VCALENDAR
VERSION:2.0
CALSCALE:GREGORIAN
BEGIN:VEVENT
URL;VALUE=URI:https://www.boardoftrade.com/events/7826
DTSTART:20240626T160000Z
DTEND:20240626T173000Z
UID:7826eventcalendar.boardoftrade.com
DTSTAMP:20260419T205738Z
LOCATION:
DESCRIPTION:Schedule: \nOnline Program: 9:00 - 10:30 a.m.\n \nEvent Detail Page: https://www.boardoftrade.com/events/7826
X-ALT-DESC;FMTTYPE=text/html:<!doctype html><html><body><div>Schedule: <p>Online Program: 9:00 - 10:30 a.m.</p></div>&nbsp\;<div>Event Detail Page: https://www.boardoftrade.com/events/7826</div></body></html>

SUMMARY:Board 101 - Member Orientation
END:VEVENT
END:VCALENDAR