
BEGIN:VCALENDAR
VERSION:2.0
CALSCALE:GREGORIAN
BEGIN:VEVENT
URL;VALUE=URI:https://www.boardoftrade.com/events/7825
DTSTART:20240613T143000Z
DTEND:20240613T160000Z
UID:7825eventcalendar.boardoftrade.com
DTSTAMP:20260419T191513Z
LOCATION:KPMG - Level 11 (Sea to Sky Room)  777 Dunsmuir Street  Vancouver
DESCRIPTION:Schedule: \nRegistration: 7:30 - 8:00 a.m.\n Program: 8:00 - 9:00 a.m. \n \n \nEvent Detail Page: https://www.boardoftrade.com/events/7825
X-ALT-DESC;FMTTYPE=text/html:<!doctype html><html><body><div>Schedule: <p>Registration: 7:30 - 8:00 a.m.<BR> Program: 8:00 - 9:00 a.m. <BR> </p></div>&nbsp\;<div>Event Detail Page: https://www.boardoftrade.com/events/7825</div></body></html>

SUMMARY:Cascadia – Opportunities and Synergies
END:VEVENT
END:VCALENDAR