
BEGIN:VCALENDAR
VERSION:2.0
CALSCALE:GREGORIAN
BEGIN:VEVENT
URL;VALUE=URI:https://www.boardoftrade.com/events/7821
DTSTART:20240709T233000Z
DTEND:20240710T020000Z
UID:7821eventcalendar.boardoftrade.com
DTSTAMP:20260419T211919Z
LOCATION:Bennett Jones Vancouver Office 666 Burrard Street\, Suite 2500   Vancouver
DESCRIPTION:Schedule: \nRegistration & Reception: 4:30  – 5:00 p.m. \n Presentations: 5:00  – 6:00 p.m.\n Workshops: 6:00  – 7:00 p.m.  \n \n \nEvent Detail Page: https://www.boardoftrade.com/events/7821
X-ALT-DESC;FMTTYPE=text/html:<!doctype html><html><body><div>Schedule: <p>Registration & Reception: 4:30  – 5:00 p.m. <BR> Presentations: 5:00  – 6:00 p.m.<BR> Workshops: 6:00  – 7:00 p.m.  <BR> </p></div>&nbsp\;<div>Event Detail Page: https://www.boardoftrade.com/events/7821</div></body></html>

SUMMARY:The Power of Narrative: Building Leadership Through Storytelling
END:VEVENT
END:VCALENDAR