
BEGIN:VCALENDAR
VERSION:2.0
CALSCALE:GREGORIAN
BEGIN:VEVENT
URL;VALUE=URI:https://www.boardoftrade.com/events/7819
DTSTART:20240728T030000Z
DTEND:20240728T060000Z
UID:7819eventcalendar.boardoftrade.com
DTSTAMP:20260419T205641Z
LOCATION:Concord Pacific Grandstand English Bay Vancouver
DESCRIPTION:Event Detail Page: https://www.boardoftrade.com/events/7819
X-ALT-DESC;FMTTYPE=text/html:<!doctype html><html><body><div>Event Detail Page: https://www.boardoftrade.com/events/7819</div></body></html>

SUMMARY:Honda Celebration of Light
END:VEVENT
END:VCALENDAR