
BEGIN:VCALENDAR
VERSION:2.0
CALSCALE:GREGORIAN
BEGIN:VEVENT
URL;VALUE=URI:https://www.boardoftrade.com/events/7815
DTSTART:20240918T160000Z
DTEND:20240920T170000Z
UID:7815eventcalendar.boardoftrade.com
DTSTAMP:20260419T205744Z
LOCATION:Virtual Training Workshop
DESCRIPTION:Schedule: \n9:00 - 11:00 a.m. \n\n Session 1: Wednesday\, September 18 \n Session 2: Thursday\, September 19 \n Session 3: Friday\, September 20\n \nEvent Detail Page: https://www.boardoftrade.com/events/7815
X-ALT-DESC;FMTTYPE=text/html:<!doctype html><html><body><div>Schedule: <p>9:00 - 11:00 a.m. <BR><BR> Session 1: Wednesday\, September 18 <BR> Session 2: Thursday\, September 19 <BR> Session 3: Friday\, September 20</p></div>&nbsp\;<div>Event Detail Page: https://www.boardoftrade.com/events/7815</div></body></html>

SUMMARY:Diversity and Inclusion Training: IDEA Essentials 2.0
END:VEVENT
END:VCALENDAR