
BEGIN:VCALENDAR
VERSION:2.0
CALSCALE:GREGORIAN
BEGIN:VEVENT
URL;VALUE=URI:https://www.boardoftrade.com/events/7811
DTSTART:20240712T000000Z
DTEND:20240712T020000Z
UID:7811eventcalendar.boardoftrade.com
DTSTAMP:20260419T205517Z
LOCATION:Guinness Business Centre 1055 West Hastings St\, Vancouver 3rd Floor | 
DESCRIPTION:Schedule: \nReception: 5:00 - 7:00 p.m.<br>\n \nEvent Detail Page: https://www.boardoftrade.com/events/7811
X-ALT-DESC;FMTTYPE=text/html:<!doctype html><html><body><div>Schedule: <p>Reception: 5:00 - 7:00 p.m.<br></p></div>&nbsp\;<div>Event Detail Page: https://www.boardoftrade.com/events/7811</div></body></html>

SUMMARY:Members' Social at Guinness Business Centre
END:VEVENT
END:VCALENDAR