
BEGIN:VCALENDAR
VERSION:2.0
CALSCALE:GREGORIAN
BEGIN:VEVENT
URL;VALUE=URI:https://www.boardoftrade.com/events/7808
DTSTART:20250212T163000Z
DTEND:20250212T173000Z
UID:7808eventcalendar.boardoftrade.com
DTSTAMP:20260419T224933Z
LOCATION:BCIT Downtown Campus
DESCRIPTION:Event Detail Page: https://www.boardoftrade.com/events/7808
X-ALT-DESC;FMTTYPE=text/html:<!doctype html><html><body><div>Event Detail Page: https://www.boardoftrade.com/events/7808</div></body></html>

SUMMARY:Trade Accelerator Program - Greater Vancouver Cohort 2025
END:VEVENT
END:VCALENDAR