
BEGIN:VCALENDAR
VERSION:2.0
CALSCALE:GREGORIAN
BEGIN:VEVENT
URL;VALUE=URI:https://www.boardoftrade.com/events/7805
DTSTART:20241105T163000Z
DTEND:20241106T003000Z
UID:7805eventcalendar.boardoftrade.com
DTSTAMP:20260419T205603Z
LOCATION:Victoria Marriott Inner Harbour 728 Humboldt St Victoria
DESCRIPTION:Event Detail Page: https://www.boardoftrade.com/events/7805
X-ALT-DESC;FMTTYPE=text/html:<!doctype html><html><body><div>Event Detail Page: https://www.boardoftrade.com/events/7805</div></body></html>

SUMMARY:Trade Accelerator Program - Vancouver Island Cohort
END:VEVENT
END:VCALENDAR