
BEGIN:VCALENDAR
VERSION:2.0
CALSCALE:GREGORIAN
BEGIN:VEVENT
URL;VALUE=URI:https://www.boardoftrade.com/events/7801
DTSTART:20240624T233000Z
DTEND:20240625T013000Z
UID:7801eventcalendar.boardoftrade.com
DTSTAMP:20260419T205245Z
LOCATION:The Vancouver Club  University Rooms 915 West Hastings Street\, Vancouver
DESCRIPTION:Schedule: \nRegistration & Networking Reception: 4:30 – 5:00 p.m. \n Keynote & Fireside Chat: 5:00 - 5:35 p.m. \n Graduation Ceremony: 5:35 - 6:00 p.m. \n Networking Reception: 6:00 - 6:30 p.m. \n \n \nEvent Detail Page: https://www.boardoftrade.com/events/7801
X-ALT-DESC;FMTTYPE=text/html:<!doctype html><html><body><div>Schedule: <p>Registration & Networking Reception: 4:30 – 5:00 p.m. <BR> Keynote & Fireside Chat: 5:00 - 5:35 p.m. <BR> Graduation Ceremony: 5:35 - 6:00 p.m. <BR> Networking Reception: 6:00 - 6:30 p.m. <BR> </p></div>&nbsp\;<div>Event Detail Page: https://www.boardoftrade.com/events/7801</div></body></html>

SUMMARY:Engaged Leadership Grad Night and Networking
END:VEVENT
END:VCALENDAR