
BEGIN:VCALENDAR
VERSION:2.0
CALSCALE:GREGORIAN
BEGIN:VEVENT
URL;VALUE=URI:https://www.boardoftrade.com/events/7799
DTSTART:20240502T153000Z
DTEND:20240502T173000Z
UID:7799eventcalendar.boardoftrade.com
DTSTAMP:20260419T191033Z
LOCATION:BCIT Tech Collider  555 Seymour Street  Vancouver
DESCRIPTION:Schedule: \nRegistration: 8:30 - 9:00 a.m. \n Program: 9:00 - 10:30 a.m. \n \n \nEvent Detail Page: https://www.boardoftrade.com/events/7799
X-ALT-DESC;FMTTYPE=text/html:<!doctype html><html><body><div>Schedule: <p>Registration: 8:30 - 9:00 a.m. <BR> Program: 9:00 - 10:30 a.m. <BR> </p></div>&nbsp\;<div>Event Detail Page: https://www.boardoftrade.com/events/7799</div></body></html>

SUMMARY:Benchmarking Greater Vancouver 2024
END:VEVENT
END:VCALENDAR