
BEGIN:VCALENDAR
VERSION:2.0
CALSCALE:GREGORIAN
BEGIN:VEVENT
URL;VALUE=URI:https://www.boardoftrade.com/events/7795
DTSTART:20240618T153000Z
DTEND:20240618T170000Z
UID:7795eventcalendar.boardoftrade.com
DTSTAMP:20260419T191050Z
LOCATION:And-Co  1575 West Georgia St. Vancouver
DESCRIPTION:Schedule: \nRegistration\, Breakfast & Networking: 8:30  - 9:00 a.m.\nProgram and Q&A: 9:00 - 10:00 a.m.\n \nEvent Detail Page: https://www.boardoftrade.com/events/7795
X-ALT-DESC;FMTTYPE=text/html:<!doctype html><html><body><div>Schedule: <p>Registration\, Breakfast & Networking: 8:30  - 9:00 a.m.<BR>Program and Q&A: 9:00 - 10:00 a.m.</p></div>&nbsp\;<div>Event Detail Page: https://www.boardoftrade.com/events/7795</div></body></html>

SUMMARY:Elevate and Engage: Communications and PR Essentials for SME Success
END:VEVENT
END:VCALENDAR