
BEGIN:VCALENDAR
VERSION:2.0
CALSCALE:GREGORIAN
BEGIN:VEVENT
URL;VALUE=URI:https://www.boardoftrade.com/events/7794
DTSTART:20240531T153000Z
DTEND:20240531T170000Z
UID:7794eventcalendar.boardoftrade.com
DTSTAMP:20260419T191237Z
LOCATION:UBC Robson Square  Theatre (C300) - Classroom Level  800 Robson Street Vancouver
DESCRIPTION:Schedule: \nRegistration\, Breakfast & Networking: 8:30  - 9:00 a.m.\nProgram and Q&A: 9:00 - 10:00 a.m.\n \nEvent Detail Page: https://www.boardoftrade.com/events/7794
X-ALT-DESC;FMTTYPE=text/html:<!doctype html><html><body><div>Schedule: <p>Registration\, Breakfast & Networking: 8:30  - 9:00 a.m.<BR>Program and Q&A: 9:00 - 10:00 a.m.</p></div>&nbsp\;<div>Event Detail Page: https://www.boardoftrade.com/events/7794</div></body></html>

SUMMARY:2024 Fiscal Update: Trends and Insights for Entrepreneurs
END:VEVENT
END:VCALENDAR