
BEGIN:VCALENDAR
VERSION:2.0
CALSCALE:GREGORIAN
BEGIN:VEVENT
URL;VALUE=URI:https://www.boardoftrade.com/events/7779
DTSTART:20240717T183000Z
DTEND:20240718T040000Z
UID:7779eventcalendar.boardoftrade.com
DTSTAMP:20260419T205056Z
LOCATION:BC Place Stadium - Gate A  777 Pacific Blvd Vancouver
DESCRIPTION:Schedule: \nArrive at the Stadium: 11:30 a.m.<br> Stadium Doors Close for entry: 12:30 p.m. <br> GVBOT Corporate Cup: 12:30 - 4:00 p.m. <br><br> \n \nEvent Detail Page: https://www.boardoftrade.com/events/7779
X-ALT-DESC;FMTTYPE=text/html:<!doctype html><html><body><div>Schedule: <p>Arrive at the Stadium: 11:30 a.m.<br> Stadium Doors Close for entry: 12:30 p.m. <br> GVBOT Corporate Cup: 12:30 - 4:00 p.m. <br><br> </p></div>&nbsp\;<div>Event Detail Page: https://www.boardoftrade.com/events/7779</div></body></html>

SUMMARY:GVBOT Corporate Cup 2024 - Spectators Welcome
END:VEVENT
END:VCALENDAR