
BEGIN:VCALENDAR
VERSION:2.0
CALSCALE:GREGORIAN
BEGIN:VEVENT
URL;VALUE=URI:https://www.boardoftrade.com/events/7778
DTSTART:20240621T000000Z
DTEND:20240621T020000Z
UID:7778eventcalendar.boardoftrade.com
DTSTAMP:20260419T205518Z
LOCATION:Holts Café - Holt Renfrew Vancouver 737 Dunmuir St | 
DESCRIPTION:Schedule: \nReception: 5:00 - 7:00 p.m.<br>\n \nEvent Detail Page: https://www.boardoftrade.com/events/7778
X-ALT-DESC;FMTTYPE=text/html:<!doctype html><html><body><div>Schedule: <p>Reception: 5:00 - 7:00 p.m.<br></p></div>&nbsp\;<div>Event Detail Page: https://www.boardoftrade.com/events/7778</div></body></html>

SUMMARY:Celebrate Summer at Holts Café
END:VEVENT
END:VCALENDAR