
BEGIN:VCALENDAR
VERSION:2.0
CALSCALE:GREGORIAN
BEGIN:VEVENT
URL;VALUE=URI:https://www.boardoftrade.com/events/7777
DTSTART:20240426T153000Z
DTEND:20240426T170000Z
UID:7777eventcalendar.boardoftrade.com
DTSTAMP:20260419T191115Z
LOCATION:Northeastern University  1400 - 410 West Georgia St. Vancouver
DESCRIPTION:Schedule: \nRegistration\, Breakfast & Networking: 8:30  - 9:00 a.m.\nProgram and Q&A: 9:00 - 10:00 a.m.\n \nEvent Detail Page: https://www.boardoftrade.com/events/7777
X-ALT-DESC;FMTTYPE=text/html:<!doctype html><html><body><div>Schedule: <p>Registration\, Breakfast & Networking: 8:30  - 9:00 a.m.<BR>Program and Q&A: 9:00 - 10:00 a.m.</p></div>&nbsp\;<div>Event Detail Page: https://www.boardoftrade.com/events/7777</div></body></html>

SUMMARY:Litigation-Proofing Your Business: Strategies for Safeguarding Success
END:VEVENT
END:VCALENDAR