
BEGIN:VCALENDAR
VERSION:2.0
CALSCALE:GREGORIAN
BEGIN:VEVENT
URL;VALUE=URI:https://www.boardoftrade.com/events/7775
DTSTART:20240528T223000Z
DTEND:20240529T010000Z
UID:7775eventcalendar.boardoftrade.com
DTSTAMP:20260419T191048Z
LOCATION:Fairmont Hotel Vancouver The Roof - Floor 15  Vancouver\, BC 
DESCRIPTION:Schedule: \nRegistration: 3:30 – 4:00 p.m. <br> Program: 4:00 – 5:00 p.m. <br> Reception & Demos: 5:00 – 6:00 p.m. <br>\n \nEvent Detail Page: https://www.boardoftrade.com/events/7775
X-ALT-DESC;FMTTYPE=text/html:<!doctype html><html><body><div>Schedule: <p>Registration: 3:30 – 4:00 p.m. <br> Program: 4:00 – 5:00 p.m. <br> Reception & Demos: 5:00 – 6:00 p.m. <br></p></div>&nbsp\;<div>Event Detail Page: https://www.boardoftrade.com/events/7775</div></body></html>

SUMMARY:Human by Design: How technology can benefit your business
END:VEVENT
END:VCALENDAR